BEGIN:VCALENDAR
VERSION:2.0
PRODID:-//StopLFA - ECPv5.9.1//NONSGML v1.0//EN
CALSCALE:GREGORIAN
METHOD:PUBLISH
X-WR-CALNAME:StopLFA
X-ORIGINAL-URL:https://stoplfa.guam.gov
X-WR-CALDESC:Events for StopLFA
BEGIN:VTIMEZONE
TZID:UTC
BEGIN:STANDARD
TZOFFSETFROM:+0000
TZOFFSETTO:+0000
TZNAME:UTC
DTSTART:20190101T000000
END:STANDARD
END:VTIMEZONE
BEGIN:VEVENT
DTSTART;VALUE=DATE:20191101
DTEND;VALUE=DATE:20191102
DTSTAMP:20260425T113904
CREATED:20191030T020330Z
LAST-MODIFIED:20191030T020330Z
UID:322-1572566400-1572652799@stoplfa.guam.gov
SUMMARY:All Souls Day
DESCRIPTION:no work!
URL:https://stoplfa.guam.gov/event/all-souls-day/
END:VEVENT
END:VCALENDAR